BEGIN:VCALENDAR
VERSION:2.0
PRODID:-//American Academy of Audiology - ECPv6.15.17//NONSGML v1.0//EN
CALSCALE:GREGORIAN
METHOD:PUBLISH
X-ORIGINAL-URL:https://www.audiology.org
X-WR-CALDESC:Events for American Academy of Audiology
REFRESH-INTERVAL;VALUE=DURATION:PT1H
X-Robots-Tag:noindex
X-PUBLISHED-TTL:PT1H
BEGIN:VTIMEZONE
TZID:America/New_York
BEGIN:DAYLIGHT
TZOFFSETFROM:-0500
TZOFFSETTO:-0400
TZNAME:EDT
DTSTART:20220313T070000
END:DAYLIGHT
BEGIN:STANDARD
TZOFFSETFROM:-0400
TZOFFSETTO:-0500
TZNAME:EST
DTSTART:20221106T060000
END:STANDARD
BEGIN:DAYLIGHT
TZOFFSETFROM:-0500
TZOFFSETTO:-0400
TZNAME:EDT
DTSTART:20230312T070000
END:DAYLIGHT
BEGIN:STANDARD
TZOFFSETFROM:-0400
TZOFFSETTO:-0500
TZNAME:EST
DTSTART:20231105T060000
END:STANDARD
BEGIN:DAYLIGHT
TZOFFSETFROM:-0500
TZOFFSETTO:-0400
TZNAME:EDT
DTSTART:20240310T070000
END:DAYLIGHT
BEGIN:STANDARD
TZOFFSETFROM:-0400
TZOFFSETTO:-0500
TZNAME:EST
DTSTART:20241103T060000
END:STANDARD
END:VTIMEZONE
BEGIN:VEVENT
DTSTART;TZID=America/New_York:20230912T190000
DTEND;TZID=America/New_York:20230912T200000
DTSTAMP:20260419T125447
CREATED:20230328T183951Z
LAST-MODIFIED:20230907T164304Z
UID:57335-1694545200-1694548800@www.audiology.org
SUMMARY:2023 Membership Meeting
DESCRIPTION:2023 Virtual Membership Meeting\nSeptember 12\, 7:00-8:00 pm ET \nThe virtual membership meeting  will feature reports from Academy leadership\, including a message from the Academy President\, Virginia Ramachandran\, AuD\, PhD\, advocacy updates and other initiatives; and an opportunity for attendees to ask questions and engage with the leadership. \nRegister Now!  \nQuestions about the membership meeting can be sent to membership@audiology.org. \nLet us know which topics you would like to learn more about and discuss during the meeting by filling out this quick one question survey.  \nTake Survey
URL:https://www.audiology.org/event/2023-membership-meeting/
LOCATION:Virtual
ATTACH;FMTTYPE=image/png:https://www.audiology.org/wp-content/uploads/2021/05/COMM21-Website_Header-Academy_Annual_Membership_Meeting-v2-min.png
END:VEVENT
END:VCALENDAR