BEGIN:VCALENDAR
VERSION:2.0
PRODID:-//American Academy of Audiology - ECPv6.15.17//NONSGML v1.0//EN
CALSCALE:GREGORIAN
METHOD:PUBLISH
X-ORIGINAL-URL:https://www.audiology.org
X-WR-CALDESC:Events for American Academy of Audiology
REFRESH-INTERVAL;VALUE=DURATION:PT1H
X-Robots-Tag:noindex
X-PUBLISHED-TTL:PT1H
BEGIN:VTIMEZONE
TZID:America/New_York
BEGIN:DAYLIGHT
TZOFFSETFROM:-0500
TZOFFSETTO:-0400
TZNAME:EDT
DTSTART:20220313T070000
END:DAYLIGHT
BEGIN:STANDARD
TZOFFSETFROM:-0400
TZOFFSETTO:-0500
TZNAME:EST
DTSTART:20221106T060000
END:STANDARD
BEGIN:DAYLIGHT
TZOFFSETFROM:-0500
TZOFFSETTO:-0400
TZNAME:EDT
DTSTART:20230312T070000
END:DAYLIGHT
BEGIN:STANDARD
TZOFFSETFROM:-0400
TZOFFSETTO:-0500
TZNAME:EST
DTSTART:20231105T060000
END:STANDARD
BEGIN:DAYLIGHT
TZOFFSETFROM:-0500
TZOFFSETTO:-0400
TZNAME:EDT
DTSTART:20240310T070000
END:DAYLIGHT
BEGIN:STANDARD
TZOFFSETFROM:-0400
TZOFFSETTO:-0500
TZNAME:EST
DTSTART:20241103T060000
END:STANDARD
END:VTIMEZONE
BEGIN:VEVENT
DTSTART;TZID=America/New_York:20231027T080000
DTEND;TZID=America/New_York:20231027T173000
DTSTAMP:20260419T142028
CREATED:20230313T200025Z
LAST-MODIFIED:20231102T141551Z
UID:14375-1698393600-1698427800@www.audiology.org
SUMMARY:Academy Research Conference 2023: Next Generation Inner-Ear Therapies
DESCRIPTION:Available On-Demand Through January 14\, 2024! \nThe live event was held on October 27\, 2023\, but you can still register for the on-demand content through January 14\, 2024. \nRegister for On-Demand! \nChair: Colleen Le Prell\, PhDCo-Chair: Gayla Poling\, PhD \nThe fields of audiology and hearing science are vastly advancing. Nearly a quarter of Americans older than 12 years of age are estimated to have some degree of hearing loss. As most older adults will experience hearing loss\, inner-ear regeneration and cell therapies would significantly expand remediation options beyond amplification devices alone. \nResearch indicates that inner-ear protective and regenerative therapies are promising and could lead to significant changes in audiological management. Multiple therapeutics are currently under evaluation in animal models and human clinical trials\, with the potential for new medicines thus on the horizon. \nThis virtual conference aims to describe the current state of these therapies and provide future expectations for clinicians providing hearing-related services. \nAgenda \n\n\n\n\n8:00–8:15 am\nWelcome–Background and Introductory Session\nBopanna Ballachanda\, PhD\, Academy President\nColleen Le Prell\, PhD\, ARC 2023 Program Chair\n\n\n8:15–9:00 am\nDeveloping and Testing Therapies for the Inner Ear\nColleen Le Prell\, PhD\, University of Texas at Dallas\n\n\n\n9:00–9:45 am\nCisplatin Ototoxicity and Its Prevention\nLisa Cunningham\, PhD\, National Institute on Deafness and Other Communication Disorders (NIDCD)\n\n\n9:45–10:00 am\nBreak\n\n\n10:00–10:45 am\nGene Therapies for Childhood Hearing Loss\nKaren Avraham\, PhD\, Tel Aviv University\n\n\n10:45–11:30 am\nPanel Discussion/Questions\n\n\n11:30 am–12:00 pm\nSelected Industry Presentations \n\n\n12:00–1:00 pm\nLunch Break\n\n\n1:00–1:15 pm\nWelcome – Advanced Session\nGayla Poling PhD\, ARC 2023 Program Committee Co-Chair\n\n\n\n1:15–2:00 pm\nNoise-Induced Hearing Loss and its Prevention\nCOL Samuel Spear MC USAF. Chief\, DOD Hearing Center of Excellence\, Defense Health Agency. Joint Base San Antonio\, TX\nLTC Isaac Erbele MC USA. Chief of Neurotology\, Associate Program Director\, Brooke Army Medical Center\, Joint Base San Antonio\, TX\n\n\n2:00–2:45 pm\nAminoglycoside Ototoxicity and its Prevention\nAngela Garinis\, PhD\, National Center for Rehabilitative Auditory Research (NCRAR)\n\n\n2:45–3:00 pm\nBreak\n\n\n3:00–3:45 pm\nBeyond the Audiogram: Lessons from Clinical Trials\nVictoria Sanchez\, AuD\, PhD\, University of South Florida\n\n\n3:45–4:30 pm\nThe Audiologist in the Next Generation of Inner-Ear Therapies: From Devices to Drugs\nAngela Shoup\, PhD\, Callier Center for Communication Disorders/University of Texas-Dallas\n\n\n4:30–5:15 pm\nPanel Discussion/Questions\n\n\n5:15–5:30 pm\nClosing Remarks\nColleen Le Prell\, PhD\, ARC 2023 Program Committee Chair
URL:https://www.audiology.org/event/academy-research-conference-2023-next-generation-inner-ear-therapies/
LOCATION:Virtual
ATTACH;FMTTYPE=image/jpeg:https://www.audiology.org/wp-content/uploads/2023/03/Virtual_ARC23-Website_Header-min.jpg
END:VEVENT
END:VCALENDAR