BEGIN:VCALENDAR
VERSION:2.0
PRODID:-//American Academy of Audiology - ECPv6.15.17//NONSGML v1.0//EN
CALSCALE:GREGORIAN
METHOD:PUBLISH
X-ORIGINAL-URL:https://www.audiology.org
X-WR-CALDESC:Events for American Academy of Audiology
REFRESH-INTERVAL;VALUE=DURATION:PT1H
X-Robots-Tag:noindex
X-PUBLISHED-TTL:PT1H
BEGIN:VTIMEZONE
TZID:America/New_York
BEGIN:DAYLIGHT
TZOFFSETFROM:-0500
TZOFFSETTO:-0400
TZNAME:EDT
DTSTART:20220313T070000
END:DAYLIGHT
BEGIN:STANDARD
TZOFFSETFROM:-0400
TZOFFSETTO:-0500
TZNAME:EST
DTSTART:20221106T060000
END:STANDARD
BEGIN:DAYLIGHT
TZOFFSETFROM:-0500
TZOFFSETTO:-0400
TZNAME:EDT
DTSTART:20230312T070000
END:DAYLIGHT
BEGIN:STANDARD
TZOFFSETFROM:-0400
TZOFFSETTO:-0500
TZNAME:EST
DTSTART:20231105T060000
END:STANDARD
BEGIN:DAYLIGHT
TZOFFSETFROM:-0500
TZOFFSETTO:-0400
TZNAME:EDT
DTSTART:20240310T070000
END:DAYLIGHT
BEGIN:STANDARD
TZOFFSETFROM:-0400
TZOFFSETTO:-0500
TZNAME:EST
DTSTART:20241103T060000
END:STANDARD
END:VTIMEZONE
BEGIN:VEVENT
DTSTART;TZID=America/New_York:20231115T160000
DTEND;TZID=America/New_York:20231115T170000
DTSTAMP:20260419T155340
CREATED:20231023T142342Z
LAST-MODIFIED:20231023T161521Z
UID:65004-1700064000-1700067600@www.audiology.org
SUMMARY:Hearing Accessibility Solutions: Achieving Successful Communication for All
DESCRIPTION:Presenters:\nSamuel R. Atcherson\, PhD\nMary Rose Bethel\, AuD\nMelissa A. Ferrello\, AuD\nSarah A. Sparks\, AuD\n\nCEUs: 0.1 AAA CEUs \nDuration: 60 minutes \nInstructional Level: Beginner \nProgram Focus: Knowledge \n  \nDescription:\n\nThis session will highlight hearing accessibility as a critical part of the patient experience in clinical settings that audiologists have a unique perspective and responsibility to uphold. The meaning behind and clinical applications of hearing accessibility will be discussed\, along with debunking misperceptions in practice. In addition to providing education and tools to improve communication access for patients\, this session will evaluate the important role audiologists have to model hearing accessibility in all situations\, not just with patients. Through open-ended panel discussion\, this session will provide information and practice on accessible communication with colleagues\, students\, and the general public. Discussion and audience participation will include how to use one’s audiology education to proactively put hearing accessibility into practice in all areas of communication\, how to know one’s own limitations\, and providing resources to seek out when further help is needed. This session will share information on how to be an expert in this area for your patients\, evaluating your level of accessibility and how to make your own practice/work setting hearing accessible for patients from the front desk to your assistant to other colleagues\, how to implement tools and best practices\, and ways to model forms of hearing accessibility to demo in your office with patients. \n\nLearning Outcomes: \n1. Evaluate the effects of and solutions to common misperceptions about hearing accessibility.\n2. Describe 2-3 changes hearing health professionals can implement in their clinic right away to improve hearing accessibility.\n3. Integrate 2-3 communication strategies in all environments to ensure interactions with patients\, colleagues\, graduate students and office staff are accessible. \nRegister Now
URL:https://www.audiology.org/event/hearing-accessibility-solutions-achieving-successful-communication-for-all/
LOCATION:Virtual
ATTACH;FMTTYPE=image/jpeg:https://www.audiology.org/wp-content/uploads/2023/10/shutterstock_2200193257-header.jpg
END:VEVENT
END:VCALENDAR