BEGIN:VCALENDAR
VERSION:2.0
PRODID:-//American Academy of Audiology - ECPv6.15.17//NONSGML v1.0//EN
CALSCALE:GREGORIAN
METHOD:PUBLISH
X-WR-CALNAME:American Academy of Audiology
X-ORIGINAL-URL:https://www.audiology.org
X-WR-CALDESC:Events for American Academy of Audiology
REFRESH-INTERVAL;VALUE=DURATION:PT1H
X-Robots-Tag:noindex
X-PUBLISHED-TTL:PT1H
BEGIN:VTIMEZONE
TZID:America/New_York
BEGIN:DAYLIGHT
TZOFFSETFROM:-0500
TZOFFSETTO:-0400
TZNAME:EDT
DTSTART:20220313T070000
END:DAYLIGHT
BEGIN:STANDARD
TZOFFSETFROM:-0400
TZOFFSETTO:-0500
TZNAME:EST
DTSTART:20221106T060000
END:STANDARD
BEGIN:DAYLIGHT
TZOFFSETFROM:-0500
TZOFFSETTO:-0400
TZNAME:EDT
DTSTART:20230312T070000
END:DAYLIGHT
BEGIN:STANDARD
TZOFFSETFROM:-0400
TZOFFSETTO:-0500
TZNAME:EST
DTSTART:20231105T060000
END:STANDARD
BEGIN:DAYLIGHT
TZOFFSETFROM:-0500
TZOFFSETTO:-0400
TZNAME:EDT
DTSTART:20240310T070000
END:DAYLIGHT
BEGIN:STANDARD
TZOFFSETFROM:-0400
TZOFFSETTO:-0500
TZNAME:EST
DTSTART:20241103T060000
END:STANDARD
END:VTIMEZONE
BEGIN:VEVENT
DTSTART;TZID=America/New_York:20231218T120000
DTEND;TZID=America/New_York:20231218T130000
DTSTAMP:20260419T172423
CREATED:20231207T221317Z
LAST-MODIFIED:20231207T221317Z
UID:71316-1702900800-1702904400@www.audiology.org
SUMMARY:The Value of Rotational Chair in the Vestibular Test Battery
DESCRIPTION:Presenters:\nCourtney Kolberg\, AuD\n\nCEUs: 0.1 AAA/Tier1 CEUs \nDuration: 60 minutes \nInstructional Level: Intermediate \nProgram Focus: Knowledge \nDescription: \nThis session aims to help guide clinicians in understanding the utility of rotary chair in the diagnosis and management of complex vestibulopathy. Relevant anatomy and physiology of the vestibular system will be reviewed\, followed by a discussion of rotary chair assessments. Expected test results will be discussed in the context of underlying anatomy to differentiate between peripheral and central vestibular impairments\, to determine level of compensation\, and to explore the value that each measure adds to the overall test battery. The session will include an interactive discussion of pertinent case history and interpretation of results. Clinical case examples will be used to supplement the presentation and to synthesize the information discussed. \n\nLearning Outcomes: \n1. Describe rotational chair testing and its various clinical applications.\n2. Differentiate between peripheral and central vestibular impairments\, as well as compensated versus uncompensated vestibular lesions.\n3. Discuss how rotational chair assessments add value to the overall test battery and contribute to the diagnosis of complex vestibulopathy. \nRegister Now
URL:https://www.audiology.org/event/the-value-of-rotational-chair-in-the-vestibular-test-battery/
LOCATION:Virtual
ATTACH;FMTTYPE=image/jpeg:https://www.audiology.org/wp-content/uploads/2023/12/shutterstock_1997527166-header.jpg
END:VEVENT
END:VCALENDAR