BEGIN:VCALENDAR
VERSION:2.0
PRODID:-//American Academy of Audiology - ECPv6.15.17//NONSGML v1.0//EN
CALSCALE:GREGORIAN
METHOD:PUBLISH
X-WR-CALNAME:American Academy of Audiology
X-ORIGINAL-URL:https://www.audiology.org
X-WR-CALDESC:Events for American Academy of Audiology
REFRESH-INTERVAL;VALUE=DURATION:PT1H
X-Robots-Tag:noindex
X-PUBLISHED-TTL:PT1H
BEGIN:VTIMEZONE
TZID:America/New_York
BEGIN:DAYLIGHT
TZOFFSETFROM:-0500
TZOFFSETTO:-0400
TZNAME:EDT
DTSTART:20230312T070000
END:DAYLIGHT
BEGIN:STANDARD
TZOFFSETFROM:-0400
TZOFFSETTO:-0500
TZNAME:EST
DTSTART:20231105T060000
END:STANDARD
BEGIN:DAYLIGHT
TZOFFSETFROM:-0500
TZOFFSETTO:-0400
TZNAME:EDT
DTSTART:20240310T070000
END:DAYLIGHT
BEGIN:STANDARD
TZOFFSETFROM:-0400
TZOFFSETTO:-0500
TZNAME:EST
DTSTART:20241103T060000
END:STANDARD
BEGIN:DAYLIGHT
TZOFFSETFROM:-0500
TZOFFSETTO:-0400
TZNAME:EDT
DTSTART:20250309T070000
END:DAYLIGHT
BEGIN:STANDARD
TZOFFSETFROM:-0400
TZOFFSETTO:-0500
TZNAME:EST
DTSTART:20251102T060000
END:STANDARD
END:VTIMEZONE
BEGIN:VEVENT
DTSTART;TZID=America/New_York:20240620T143000
DTEND;TZID=America/New_York:20240620T153000
DTSTAMP:20260421T054724
CREATED:20240108T162347Z
LAST-MODIFIED:20240108T162347Z
UID:76844-1718893800-1718897400@www.audiology.org
SUMMARY:eAudiology Beyond the Booth Series: Stress Management 101
DESCRIPTION:Presenter: Kyle Shepard\, AuD\n\nCEUs: 0.1 AAA \nDuration: 60 minutes \nInstructional Level: Beginner \nProgram Focus: Knowledge \nDescription:  This webinar is a part of the Academy’s “Beyond the Booth” series\, designed to provide you with career growth and leadership development skills to help support your success at work and in your personal life. \nWe live in a time of abundance where our access to information has never been greater. This\, however\, has not correlated with improved psychological well-being\, as stress\, burnout\, substance abuse\, and mental health conditions are on the rise. Early intervention is imperative in preventing burnout or long-term consequences of stress. Everyone experiences stress. How it is managed\, however\, varies significantly. This session will provide the foundation of how to effectively manage the internal experience of stress to allow for a more fulfilling life. \nLearning Outcomes: \n\nDiscuss the stress continuum as it relates to stress response zones\, levels of function\,and need for support.\nDescribe the difference between stress and stressors to include controllable aspects of each.\nIntegrate 2-3 stress management strategies into daily person and professional life.\n\nRegister Now
URL:https://www.audiology.org/event/eaudiology-beyond-the-booth-series-stress-management-101/
LOCATION:Virtual
ATTACH;FMTTYPE=image/jpeg:https://www.audiology.org/wp-content/uploads/2024/01/shutterstock_1856570596-header.jpg
END:VEVENT
END:VCALENDAR