BEGIN:VCALENDAR
VERSION:2.0
PRODID:-//American Academy of Audiology - ECPv6.15.17//NONSGML v1.0//EN
CALSCALE:GREGORIAN
METHOD:PUBLISH
X-WR-CALNAME:American Academy of Audiology
X-ORIGINAL-URL:https://www.audiology.org
X-WR-CALDESC:Events for American Academy of Audiology
REFRESH-INTERVAL;VALUE=DURATION:PT1H
X-Robots-Tag:noindex
X-PUBLISHED-TTL:PT1H
BEGIN:VTIMEZONE
TZID:America/New_York
BEGIN:DAYLIGHT
TZOFFSETFROM:-0500
TZOFFSETTO:-0400
TZNAME:EDT
DTSTART:20250309T070000
END:DAYLIGHT
BEGIN:STANDARD
TZOFFSETFROM:-0400
TZOFFSETTO:-0500
TZNAME:EST
DTSTART:20251102T060000
END:STANDARD
BEGIN:DAYLIGHT
TZOFFSETFROM:-0500
TZOFFSETTO:-0400
TZNAME:EDT
DTSTART:20260308T070000
END:DAYLIGHT
BEGIN:STANDARD
TZOFFSETFROM:-0400
TZOFFSETTO:-0500
TZNAME:EST
DTSTART:20261101T060000
END:STANDARD
BEGIN:DAYLIGHT
TZOFFSETFROM:-0500
TZOFFSETTO:-0400
TZNAME:EDT
DTSTART:20270314T070000
END:DAYLIGHT
BEGIN:STANDARD
TZOFFSETFROM:-0400
TZOFFSETTO:-0500
TZNAME:EST
DTSTART:20271107T060000
END:STANDARD
END:VTIMEZONE
BEGIN:VEVENT
DTSTART;TZID=America/New_York:20260422T080000
DTEND;TZID=America/New_York:20260425T170000
DTSTAMP:20260422T014657
CREATED:20230727T150237Z
LAST-MODIFIED:20251210T144446Z
UID:60170-1776844800-1777136400@www.audiology.org
SUMMARY:AAA Annual Convention 2026
DESCRIPTION:
URL:https://www.audiology.org/event/aaa-2026-heartech-expo/
LOCATION:San Antonio\, Texas\, San Antonio\, TX\, United States
END:VEVENT
BEGIN:VEVENT
DTSTART;TZID=America/New_York:20260422T130000
DTEND;TZID=America/New_York:20260422T140000
DTSTAMP:20260422T014657
CREATED:20260331T193642Z
LAST-MODIFIED:20260401T132215Z
UID:181895-1776862800-1776866400@www.audiology.org
SUMMARY:2026 Annual Membership Meeting
DESCRIPTION:Would you like to hear more about the Academy’s initiatives\, advocacy efforts\, and decision-making process? Join us for our Annual Membership Meeting at AAA 2026 in San Antonio. \n\n\n\nTime\nAgenda Item\nPresenter\n\n\n\n\n1:00–1:30\nI. Welcome & Call to Order\nDave Zapala\n\n\n\nII. Annual Treasurer’s Report\nKwame Curtis\n\n\n\nIII. Reframing Value in the Academy\nPatrick Gallagher\n\n\n\nIV. Advancing the Field Through ABA Credentialing\nCarrie Meyer\n\n\n1:30–2:00\nV. Positioning for the Future: Academy Prospectus\nDave Zapala\, Tracy Murphy\n\n\n\n  \nA discussion of the impact of Artificial Intelligence (AI) on audiology practice\, the importance of audiologists getting paid for clinical decision making\, and the specific Academy initiatives to help members prepare for a transformation of the profession.
URL:https://www.audiology.org/event/2026-annual-membership-meeting/
LOCATION:Henry B. Gonzalez Convention Center\, 900 E. Market Street\, San Antonio\, TX\, 78205\, United States
ATTACH;FMTTYPE=image/jpeg:https://www.audiology.org/wp-content/uploads/2025/03/shutterstock_2477632797-header.jpg
END:VEVENT
END:VCALENDAR