BEGIN:VCALENDAR
VERSION:2.0
PRODID:-//American Academy of Audiology - ECPv6.15.17//NONSGML v1.0//EN
CALSCALE:GREGORIAN
METHOD:PUBLISH
X-WR-CALNAME:American Academy of Audiology
X-ORIGINAL-URL:https://www.audiology.org
X-WR-CALDESC:Events for American Academy of Audiology
REFRESH-INTERVAL;VALUE=DURATION:PT1H
X-Robots-Tag:noindex
X-PUBLISHED-TTL:PT1H
BEGIN:VTIMEZONE
TZID:America/New_York
BEGIN:DAYLIGHT
TZOFFSETFROM:-0500
TZOFFSETTO:-0400
TZNAME:EDT
DTSTART:20230312T070000
END:DAYLIGHT
BEGIN:STANDARD
TZOFFSETFROM:-0400
TZOFFSETTO:-0500
TZNAME:EST
DTSTART:20231105T060000
END:STANDARD
BEGIN:DAYLIGHT
TZOFFSETFROM:-0500
TZOFFSETTO:-0400
TZNAME:EDT
DTSTART:20240310T070000
END:DAYLIGHT
BEGIN:STANDARD
TZOFFSETFROM:-0400
TZOFFSETTO:-0500
TZNAME:EST
DTSTART:20241103T060000
END:STANDARD
BEGIN:DAYLIGHT
TZOFFSETFROM:-0500
TZOFFSETTO:-0400
TZNAME:EDT
DTSTART:20250309T070000
END:DAYLIGHT
BEGIN:STANDARD
TZOFFSETFROM:-0400
TZOFFSETTO:-0500
TZNAME:EST
DTSTART:20251102T060000
END:STANDARD
END:VTIMEZONE
BEGIN:VEVENT
DTSTART;TZID=America/New_York:20240117T080000
DTEND;TZID=America/New_York:20240117T180000
DTSTAMP:20260419T172516
CREATED:20231110T164431Z
LAST-MODIFIED:20231110T164431Z
UID:66516-1705478400-1705514400@www.audiology.org
SUMMARY:Mental Health First Aid for Patients Across the Lifespan
DESCRIPTION:Presenters:\nUrsula Findlen\, PhD\nKaitlyn Kennedy\, AuD\nDevon Weist\, AuD\n\nCEUs: 0.1 AAA/Tier 1 CEUs \nDuration: 60 minutes \nInstructional Level: Intermediate \nProgram Focus: Knowledge \nDescription:\n\nHearing loss is known to coincide with a host of health-related issues\, including mental health. Audiologists need be able to identify when emotional and psychological well-being is at risk in both the patients we serve and their close family members\, who also are affected by these diagnoses. \nThis session will review models for delivering difficult information\, the signs of potential mental health crisis\, and discuss how to handle conversations surrounding mental health. Didactic cases from across the lifespan will be presented to highlight themes and differences when working with different populations. \n\nLearning Outcomes: \n1. Summarize signs of potential mental health problems and how to handle conversations when a mental health challenge or crisis is suspected.\n2. Identify different triggers for children\, adolescents\, and adults.\n3. Apply tools and resources shared in this session to their own clinical practice. \nRegister Now
URL:https://www.audiology.org/event/mental-health-first-aid-for-patients-across-the-lifespan/
LOCATION:Virtual
ATTACH;FMTTYPE=image/jpeg:https://www.audiology.org/wp-content/uploads/2023/11/shutterstock_1735801265-header.jpg
END:VEVENT
BEGIN:VEVENT
DTSTART;TZID=America/New_York:20240126T120000
DTEND;TZID=America/New_York:20240126T130000
DTSTAMP:20260419T172516
CREATED:20231207T143117Z
LAST-MODIFIED:20231208T141620Z
UID:71274-1706270400-1706274000@www.audiology.org
SUMMARY:Music Audiology: Hearing Care for Special Ears
DESCRIPTION:Presenters: \nBrian J. Fligor\, PhD\nFrank Wartinger\, AuD \nCEUs: 0.1 AAA/Tier1 CEUs \nDuration: 60 minutes \nInstructional Level: Intermediate \nProgram Focus: Knowledge \nDescription: \nMusicians and entertainment industry professionals constitute a special population that faces an elevated risk of hearing injuries. Their hearing health is closely tied to both vocational success and avocational fulfillment. This session will clarify best practices in the specialty of music audiology and delineate the distinctive practice settings and opportunities inherent in this field. Special focus will be placed on the role of general-practice audiologists in the care of music industry professionals with hearing testing\, fitting of custom hearing products\, and follow-up care. \nLearning Outcomes: \n1. Discuss the significance of hearing health for both vocational success and avocational fulfillment in the context of music professionals.\n2. Identify the atypical clinical settings where music audiologists operate\, including music venues and telepractice.\n3. Compare recommended best practices in music audiology with standard audiological care. \nRegister Now
URL:https://www.audiology.org/event/music-audiology-hearing-care-for-special-ears-0-1-aaa-tier1-ceus/
LOCATION:Virtual
ATTACH;FMTTYPE=image/jpeg:https://www.audiology.org/wp-content/uploads/2023/12/shutterstock_2078972206-header.jpg
END:VEVENT
END:VCALENDAR